BEGIN:VCALENDAR
VERSION:2.0
PRODID:-//hacksw/handcal//NONSGML v1.0//EN
CALSCALE:GREGORIAN
BEGIN:VEVENT
UID:69e656ffd51df
SEQUENCE:0
DESCRIPTION:【兵庫】令和８年度福祉の就職説明会　の参加法人受付フォーム　
DTSTART:20260704T072800Z
DTEND:20261103T070000Z
SUMMARY:【兵庫】令和８年度福祉の就職説明会　の参加法人受付フォーム　
LOCATION:
URL:https://e-ve.event-form.jp/event/129499/r8setsumeikaihyogoform
DTSTAMP:20260421T014031Z
END:VEVENT
END:VCALENDAR