BEGIN:VCALENDAR
VERSION:2.0
PRODID:-//hacksw/handcal//NONSGML v1.0//EN
CALSCALE:GREGORIAN
BEGIN:VEVENT
UID:69e602ecaca48
SEQUENCE:0
DESCRIPTION:CPDS認定・無料
DTSTART:20260522T013000Z
DTEND:20260522T021500Z
SUMMARY:2026/05/22（金）10:30～　建設業法改正への実務対応セミナー　〜技能労働者の賃金・労働時間実態調査の試行について〜
LOCATION:オンライン（全国）
URL:https://e-ve.event-form.jp/event/129593/2605221030_npcloud
DTSTAMP:20260420T194148Z
END:VEVENT
END:VCALENDAR