BEGIN:VCALENDAR
VERSION:2.0
PRODID:-//hacksw/handcal//NONSGML v1.0//EN
CALSCALE:GREGORIAN
BEGIN:VEVENT
UID:69e5fd260d7e7
SEQUENCE:0
DESCRIPTION:CPDS認定・無料
DTSTART:20260526T050000Z
DTEND:20260526T054500Z
SUMMARY:2026/05/26（火）14:00～ CCUS×施工体制台帳 実務対応セミナー ～デジタルツールで実現する業務効率化～
LOCATION:オンライン（全国）
URL:https://e-ve.event-form.jp/event/129599/2605261400_CCUS
DTSTAMP:20260420T191710Z
END:VEVENT
END:VCALENDAR