BEGIN:VCALENDAR
VERSION:2.0
PRODID:-//hacksw/handcal//NONSGML v1.0//EN
CALSCALE:GREGORIAN
BEGIN:VEVENT
UID:69e600b7686b1
SEQUENCE:0
DESCRIPTION:開催時間　10:00~16:45
DTSTART:20260617T010000Z
DTEND:20260617T074500Z
SUMMARY:2026/06/17（水）10：00～【KOS】 デキスパート「施工管理書類作成編」
LOCATION:オンライン（全国）
URL:https://e-ve.event-form.jp/event/129602/kos260617
DTSTAMP:20260420T193223Z
END:VEVENT
END:VCALENDAR