BEGIN:VCALENDAR
VERSION:2.0
PRODID:-//hacksw/handcal//NONSGML v1.0//EN
CALSCALE:GREGORIAN
BEGIN:VEVENT
UID:69e585617b768
SEQUENCE:0
DESCRIPTION:ままろまサロン☆問い合わせフォーム
DTSTART:20310101T053500Z
DTEND:20310102T053500Z
SUMMARY:ままろまサロン☆問い合わせフォーム
LOCATION:
URL:https://e-ve.event-form.jp/event/130/BlCw7DzOgZF6
DTSTAMP:20260420T104609Z
END:VEVENT
END:VCALENDAR