BEGIN:VCALENDAR
VERSION:2.0
PRODID:-//hacksw/handcal//NONSGML v1.0//EN
CALSCALE:GREGORIAN
BEGIN:VEVENT
UID:69e6757f82e0f
SEQUENCE:0
DESCRIPTION:JITCO本部から配信
DTSTART:20260612T050000Z
DTEND:20260612T070000Z
SUMMARY:外国人材との「やさしい日本語」話し方セミナー〈6/12(金)・ウェビナー〉
LOCATION:JITCO会議室よりオンラインで配信
URL:https://e-ve.event-form.jp/event/130047/KQ63qUaRvC02
DTSTAMP:20260421T035039Z
END:VEVENT
END:VCALENDAR