BEGIN:VCALENDAR
VERSION:2.0
PRODID:-//hacksw/handcal//NONSGML v1.0//EN
CALSCALE:GREGORIAN
BEGIN:VEVENT
UID:69e73ce67e6dd
SEQUENCE:0
DESCRIPTION:海でもリラックスして泳げる方法を身につけよう
DTSTART:20260419T000000Z
DTEND:20260419T020000Z
SUMMARY:Lumina OWS練習会＠平塚【初級】 4月19日
LOCATION:ひらつかビーチパーク（神奈川県平塚市）
URL:https://e-ve.event-form.jp/event/130078/e001353-a19
DTSTAMP:20260421T180126Z
END:VEVENT
END:VCALENDAR