BEGIN:VCALENDAR
VERSION:2.0
PRODID:-//hacksw/handcal//NONSGML v1.0//EN
CALSCALE:GREGORIAN
BEGIN:VEVENT
UID:69e8fb71bcd85
SEQUENCE:0
DESCRIPTION:２０２６年度テーマ別コーポレート戦略セミナー
DTSTART:20260605T060000Z
DTEND:20260605T080000Z
SUMMARY:オンライン参加：「関税不確実性時代」2026年6月5日
LOCATION:
URL:https://e-ve.event-form.jp/event/130127/MWb3YaZz
DTSTAMP:20260423T014641Z
END:VEVENT
END:VCALENDAR