BEGIN:VCALENDAR
VERSION:2.0
PRODID:-//hacksw/handcal//NONSGML v1.0//EN
CALSCALE:GREGORIAN
BEGIN:VEVENT
UID:69e5fe5ebcb9e
SEQUENCE:0
DESCRIPTION:実践的な使い方を体験
DTSTART:20260605T050000Z
DTEND:20260605T063000Z
SUMMARY:2026/06/05（金）14:00～　「工事実績DBクラウド＋AI入力アシスト」体験セミナー（オンライン）
LOCATION:オンライン（全国）
URL:https://e-ve.event-form.jp/event/130177/2606051400_dbcloud
DTSTAMP:20260420T192222Z
END:VEVENT
END:VCALENDAR