BEGIN:VCALENDAR
VERSION:2.0
PRODID:-//hacksw/handcal//NONSGML v1.0//EN
CALSCALE:GREGORIAN
BEGIN:VEVENT
UID:69e5ff2ba3077
SEQUENCE:0
DESCRIPTION:実践的な使い方を体験
DTSTART:20260623T050000Z
DTEND:20260623T063000Z
SUMMARY:2026/06/23（火）14:00～　「施工体制クラウド」体験セミナー（オンライン）
LOCATION:オンライン（全国）
URL:https://e-ve.event-form.jp/event/130185/2606231400_sekotaisei
DTSTAMP:20260420T192547Z
END:VEVENT
END:VCALENDAR