BEGIN:VCALENDAR
VERSION:2.0
PRODID:-//hacksw/handcal//NONSGML v1.0//EN
CALSCALE:GREGORIAN
BEGIN:VEVENT
UID:69e5243465353
SEQUENCE:0
DESCRIPTION:講義時間：10:00～17:20（受付/本人確認 9:20～9:40まで）
DTSTART:20260722T010000Z
DTEND:20260722T082000Z
SUMMARY:技能実習責任者講習（7月22日・オンライン）
LOCATION:JITCO会議室よりオンラインで配信します
URL:https://e-ve.event-form.jp/event/130207/1234567
DTSTAMP:20260420T035132Z
END:VEVENT
END:VCALENDAR