BEGIN:VCALENDAR
VERSION:2.0
PRODID:-//hacksw/handcal//NONSGML v1.0//EN
CALSCALE:GREGORIAN
BEGIN:VEVENT
UID:69e5ff263107c
SEQUENCE:0
DESCRIPTION:株式会社建設システム　本社第一営業所
DTSTART:20260520T043000Z
DTEND:20260520T073000Z
SUMMARY:2026/05/20(水)【静岡県沼津市】普段使いの快測ナビ活用セミナー
LOCATION:沼津市民文化センター　第１練習室
URL:https://e-ve.event-form.jp/event/130278/20260520
DTSTAMP:20260420T192542Z
END:VEVENT
END:VCALENDAR