BEGIN:VCALENDAR
VERSION:2.0
PRODID:-//hacksw/handcal//NONSGML v1.0//EN
CALSCALE:GREGORIAN
BEGIN:VEVENT
UID:69e757e60900d
SEQUENCE:0
DESCRIPTION:防災気象講演会（北海道）
DTSTART:20260518T043000Z
DTEND:20260518T063000Z
SUMMARY:防災気象講演会（北海道）
LOCATION:札幌国際ビル8階	国際ホール
URL:https://e-ve.event-form.jp/event/130468/hokkaido
DTSTAMP:20260421T195638Z
END:VEVENT
END:VCALENDAR