BEGIN:VCALENDAR
VERSION:2.0
PRODID:-//hacksw/handcal//NONSGML v1.0//EN
CALSCALE:GREGORIAN
BEGIN:VEVENT
UID:69e74f8b6c9bb
SEQUENCE:0
DESCRIPTION:防災気象講演会（大阪）
DTSTART:20260527T043000Z
DTEND:20260527T063000Z
SUMMARY:防災気象講演会（大阪）
LOCATION:國民會館　武藤記念ホール
URL:https://e-ve.event-form.jp/event/130475/osaka
DTSTAMP:20260421T192059Z
END:VEVENT
END:VCALENDAR