BEGIN:VCALENDAR
VERSION:2.0
PRODID:-//hacksw/handcal//NONSGML v1.0//EN
CALSCALE:GREGORIAN
BEGIN:VEVENT
UID:69e4d308a2ccc
SEQUENCE:0
DESCRIPTION:佐渡やIM南北海道に向けて、海での実戦感覚を研ぎ澄ましていこう！
DTSTART:20260816T000000Z
DTEND:20260816T060000Z
SUMMARY:Lumina OWS練習会＠平塚【午前 中上級/午後 初級 】 8月16日
LOCATION:平塚
URL:https://e-ve.event-form.jp/event/130591/e1384
DTSTAMP:20260419T220512Z
END:VEVENT
END:VCALENDAR