BEGIN:VCALENDAR
VERSION:2.0
PRODID:-//hacksw/handcal//NONSGML v1.0//EN
CALSCALE:GREGORIAN
BEGIN:VEVENT
UID:69e8d710c8745
SEQUENCE:0
DESCRIPTION:iJAMP自治体実務セミナー2026　自治体DX推進のすすめ 7/3（福岡会場）お申込みフォーム
DTSTART:20260703T033000Z
DTEND:20260703T083000Z
SUMMARY:iJAMP自治体実務セミナー2026　自治体DX推進のすすめ 7/3（福岡会場）お申込みフォーム
LOCATION:JR九州ホール（JR博多シティ9F）
URL:https://e-ve.event-form.jp/event/130647/fukuoka
DTSTAMP:20260422T231128Z
END:VEVENT
END:VCALENDAR