BEGIN:VCALENDAR
VERSION:2.0
PRODID:-//hacksw/handcal//NONSGML v1.0//EN
CALSCALE:GREGORIAN
BEGIN:VEVENT
UID:69eb2a0e975ef
SEQUENCE:0
DESCRIPTION:講師：水上 哲也 先生、溝上 宗久 先生
DTSTART:20270307T010000Z
DTEND:20270307T080000Z
SUMMARY:ここぞ！で役立つGBRをマスターするための徹底ハンズオン【福岡2027年3月7日(日)】　　　　　　
LOCATION:福岡市博多区博多駅東2-18-30
URL:https://e-ve.event-form.jp/event/130689/Pqah8b9ShfI7
DTSTAMP:20260424T173006Z
END:VEVENT
END:VCALENDAR