BEGIN:VCALENDAR
VERSION:2.0
PRODID:-//hacksw/handcal//NONSGML v1.0//EN
CALSCALE:GREGORIAN
BEGIN:VEVENT
UID:69e8bda7de039
SEQUENCE:0
DESCRIPTION:株式会社建設システム　盛岡営業所
DTSTART:20260529T013000Z
DTEND:20260529T030000Z
SUMMARY:2026/05/29（金）【秋田県横手市】［午前の部］測るだけで終わらせない！点群活用で変わる現場仕事　SiTE-Scope体験セミナー
LOCATION:横手市交流センター / Y2ぷらざ　研修室1
URL:https://e-ve.event-form.jp/event/130744/20260529
DTSTAMP:20260422T212303Z
END:VEVENT
END:VCALENDAR