BEGIN:VCALENDAR
VERSION:2.0
PRODID:-//hacksw/handcal//NONSGML v1.0//EN
CALSCALE:GREGORIAN
BEGIN:VEVENT
UID:69e600529ec87
SEQUENCE:0
DESCRIPTION:株式会社建設システム　盛岡営業所
DTSTART:20260529T040000Z
DTEND:20260529T063000Z
SUMMARY:2026/05/29（金）【秋田県横手市】［午後の部］面倒な計算は不要！SiTECH3D×快測ナビで変わる現場効率化セミナー
LOCATION:横手市交流センター / Y2ぷらざ　研修室1
URL:https://e-ve.event-form.jp/event/130746/20260529
DTSTAMP:20260420T193042Z
END:VEVENT
END:VCALENDAR