BEGIN:VCALENDAR
VERSION:2.0
PRODID:-//hacksw/handcal//NONSGML v1.0//EN
CALSCALE:GREGORIAN
BEGIN:VEVENT
UID:69e5db2126dc8
SEQUENCE:0
DESCRIPTION:baser Meetup Vol.6
DTSTART:20260530T090000Z
DTEND:20260530T123000Z
SUMMARY:baser Meetup Vol.6
LOCATION:エンジニアカフェ
URL:https://e-ve.event-form.jp/event/130765/baserCMS013
DTSTAMP:20260420T165201Z
END:VEVENT
END:VCALENDAR