BEGIN:VCALENDAR
VERSION:2.0
PRODID:-//hacksw/handcal//NONSGML v1.0//EN
CALSCALE:GREGORIAN
BEGIN:VEVENT
UID:69e5240296843
SEQUENCE:0
DESCRIPTION:「少数体制で、どこまでできる？通販現場のリアルなAI活用と業務効率化の仕組みづくり」
DTSTART:20260501T093000Z
DTEND:20260501T110000Z
SUMMARY:【DMW】5月1日（金）第342回　DMW九州ワークショップ
LOCATION:やず本や
URL:https://e-ve.event-form.jp/event/130892/342
DTSTAMP:20260420T035042Z
END:VEVENT
END:VCALENDAR