BEGIN:VCALENDAR
VERSION:2.0
PRODID:-//hacksw/handcal//NONSGML v1.0//EN
CALSCALE:GREGORIAN
BEGIN:VEVENT
UID:69e4d308a28fd
SEQUENCE:0
DESCRIPTION:佐渡、IM南北海道に向けてバイクの脚力を鍛えていきたい方へ
DTSTART:20260605T230000Z
DTEND:20260905T010000Z
SUMMARY:夏のTARGET X 〜 IMジャパン＆佐渡コース
LOCATION:オンライン（ZOOM）
URL:https://e-ve.event-form.jp/event/130918/e1391
DTSTAMP:20260419T220512Z
END:VEVENT
END:VCALENDAR