BEGIN:VCALENDAR
VERSION:2.0
PRODID:-//hacksw/handcal//NONSGML v1.0//EN
CALSCALE:GREGORIAN
BEGIN:VEVENT
UID:69e5dabee7291
SEQUENCE:0
DESCRIPTION:福岡支社　福岡県糟屋郡志免町南里6丁目20番10号
DTSTART:20260509T040000Z
DTEND:20260509T080000Z
SUMMARY:【福岡】福岡支社主催 ユニファイ・セミナー
LOCATION:株式会社よりそい（SYLPHID 福岡支社）
URL:https://e-ve.event-form.jp/event/131206/CZdKwrI928ap
DTSTAMP:20260420T165022Z
END:VEVENT
END:VCALENDAR