BEGIN:VCALENDAR
VERSION:2.0
PRODID:-//hacksw/handcal//NONSGML v1.0//EN
CALSCALE:GREGORIAN
BEGIN:VEVENT
UID:69e5db6f4b253
SEQUENCE:0
DESCRIPTION:株式会社よりそい（SYLPHID 福岡支社）　福岡県糟屋郡志免町南里6-20-10
DTSTART:20260519T040000Z
DTEND:20260519T060000Z
SUMMARY:【福岡】 商品説明会
LOCATION:株式会社よりそい（SYLPHID 福岡支社）
URL:https://e-ve.event-form.jp/event/131207/CZdKwrI928ap
DTSTAMP:20260420T165319Z
END:VEVENT
END:VCALENDAR