BEGIN:VCALENDAR
VERSION:2.0
PRODID:-//hacksw/handcal//NONSGML v1.0//EN
CALSCALE:GREGORIAN
BEGIN:VEVENT
UID:69e5dac921e32
SEQUENCE:0
DESCRIPTION:裾野市民文化センター 3階 31会議室　静岡県裾野市石脇5 8 6
DTSTART:20260524T043000Z
DTEND:20260524T073000Z
SUMMARY:【静岡】ユニファイ・セミナー in 静岡
LOCATION:裾野市民文化センター 3F 31 会議室
URL:https://e-ve.event-form.jp/event/131212/CZdKwrI928ap
DTSTAMP:20260420T165033Z
END:VEVENT
END:VCALENDAR