BEGIN:VCALENDAR
VERSION:2.0
PRODID:-//hacksw/handcal//NONSGML v1.0//EN
CALSCALE:GREGORIAN
BEGIN:VEVENT
UID:69e5dbc12fca4
SEQUENCE:0
DESCRIPTION:TOKYO LAB. セミナールーム 　東京都千代田区外神田6丁目5-12 偕楽 ビル新末広7階
DTSTART:20260525T040000Z
DTEND:20260525T083000Z
SUMMARY:【東京】ユニファイセミナー in 東京
LOCATION:TOKYO LAB.
URL:https://e-ve.event-form.jp/event/131217/CZdKwrI928ap
DTSTAMP:20260420T165441Z
END:VEVENT
END:VCALENDAR