BEGIN:VCALENDAR
VERSION:2.0
PRODID:-//hacksw/handcal//NONSGML v1.0//EN
CALSCALE:GREGORIAN
BEGIN:VEVENT
UID:69e5dac97aa82
SEQUENCE:0
DESCRIPTION:※口座振り込み用※【イベント】菅原伶美_2026/6/13~8/29  【6名限定セッション】 Reborn 90 – 3ヶ月プログラムを通して、その後の人生も変える集中講座✨ 〜身体・習慣・マインドを整え、史上最高の私へ〜
DTSTART:20260612T150000Z
DTEND:20260828T150000Z
SUMMARY:※口座振り込み用※【イベント】菅原伶美_2026/6/13~8/29  【6名限定セッション】 Reborn 90 – 3ヶ月プログラムを通して、その後の人生も変える集中講座✨ 〜身体・習慣・マインドを整え、史上最高の私へ〜
LOCATION:青山トレスタ他
URL:https://e-ve.event-form.jp/event/131222/quW3
DTSTAMP:20260420T165033Z
END:VEVENT
END:VCALENDAR