BEGIN:VCALENDAR
VERSION:2.0
PRODID:-//hacksw/handcal//NONSGML v1.0//EN
CALSCALE:GREGORIAN
BEGIN:VEVENT
UID:69e63a4ac0257
SEQUENCE:0
DESCRIPTION:【リトリート】物江麻衣子_2026/6/17-19  社員向け御岳山リトリート @駒鳥山荘
DTSTART:20260617T035000Z
DTEND:20260619T021000Z
SUMMARY:【リトリート】物江麻衣子_2026/6/17-19  社員向け御岳山リトリート @駒鳥山荘
LOCATION:駒鳥山荘
URL:https://e-ve.event-form.jp/event/131229/quW3
DTSTAMP:20260420T233802Z
END:VEVENT
END:VCALENDAR