BEGIN:VCALENDAR
VERSION:2.0
PRODID:-//hacksw/handcal//NONSGML v1.0//EN
CALSCALE:GREGORIAN
BEGIN:VEVENT
UID:69e63bc0b2725
SEQUENCE:0
DESCRIPTION:＜7/15・7/22開催＞第11期 総務担当者向け研修
DTSTART:20260722T043000Z
DTEND:20260722T080000Z
SUMMARY:＜7/15・7/22開催＞第11期 総務担当者向け研修
LOCATION:茨城県産業会館　大会議室
URL:https://e-ve.event-form.jp/event/131235/20260715
DTSTAMP:20260420T234416Z
END:VEVENT
END:VCALENDAR