BEGIN:VCALENDAR
VERSION:2.0
PRODID:-//hacksw/handcal//NONSGML v1.0//EN
CALSCALE:GREGORIAN
BEGIN:VEVENT
UID:69e6f615b8362
SEQUENCE:0
DESCRIPTION:5/23㈯・5/24㈰【特別公開】護衛艦とね
DTSTART:20260523T030000Z
DTEND:20260524T063000Z
SUMMARY:5/23㈯・5/24㈰【特別公開】護衛艦とね
LOCATION:門司港１号岸壁
URL:https://e-ve.event-form.jp/event/131255/uraga
DTSTAMP:20260421T125917Z
END:VEVENT
END:VCALENDAR