BEGIN:VCALENDAR
VERSION:2.0
PRODID:-//hacksw/handcal//NONSGML v1.0//EN
CALSCALE:GREGORIAN
BEGIN:VEVENT
UID:69e63b67ecc09
SEQUENCE:0
DESCRIPTION:自己理解メソッドで、個々のパフォーマンスを最大発揮
DTSTART:20260526T050000Z
DTEND:20260526T083000Z
SUMMARY:自己理解経営勉強会 in 姫路
LOCATION:BIZ SPACE HIMEJI 会議室404 　※JR各線「姫路駅」北口から徒歩7分
URL:https://e-ve.event-form.jp/event/131273/jikorikaiseminar
DTSTAMP:20260420T234247Z
END:VEVENT
END:VCALENDAR