BEGIN:VCALENDAR
VERSION:2.0
PRODID:-//hacksw/handcal//NONSGML v1.0//EN
CALSCALE:GREGORIAN
BEGIN:VEVENT
UID:69e63b6e9c7e9
SEQUENCE:0
DESCRIPTION:～アーユルヴェーダ・セルフトリートメント～
DTSTART:20260517T080000Z
DTEND:20260531T110000Z
SUMMARY:【イベント】平野紗代_2026/5/17(日).31(日)  新月満月瞑想会
LOCATION:J:COM ホルトホール大分
URL:https://e-ve.event-form.jp/event/131278/glno6a
DTSTAMP:20260420T234254Z
END:VEVENT
END:VCALENDAR