BEGIN:VCALENDAR
VERSION:2.0
PRODID:-//hacksw/handcal//NONSGML v1.0//EN
CALSCALE:GREGORIAN
BEGIN:VEVENT
UID:69e6f6f05e7da
SEQUENCE:0
DESCRIPTION:5/23㈯【特別公開・体験喫食】護衛艦とね
DTSTART:20260523T000000Z
DTEND:20260523T070000Z
SUMMARY:5/23㈯【特別公開・体験喫食】護衛艦とね
LOCATION:門司港１号岸壁
URL:https://e-ve.event-form.jp/event/131294/uraga
DTSTAMP:20260421T130256Z
END:VEVENT
END:VCALENDAR