BEGIN:VCALENDAR
VERSION:2.0
PRODID:-//hacksw/handcal//NONSGML v1.0//EN
CALSCALE:GREGORIAN
BEGIN:VEVENT
UID:69e74b93981cd
SEQUENCE:0
DESCRIPTION:【リトリート】須賀優香_2026/7/18-20 心身の癒しと変化を叶える、蓼科リトリート～姿勢から整え、身体の使い方を学ぶ2日間～
DTSTART:20260718T063000Z
DTEND:20260720T020000Z
SUMMARY:【リトリート】須賀優香_2026/7/18-20 心身の癒しと変化を叶える、蓼科リトリート～姿勢から整え、身体の使い方を学ぶ2日間～
LOCATION:長野県茅野市北山5513-412
URL:https://e-ve.event-form.jp/event/131355/quW3
DTSTAMP:20260421T190403Z
END:VEVENT
END:VCALENDAR