BEGIN:VCALENDAR
VERSION:2.0
PRODID:-//hacksw/handcal//NONSGML v1.0//EN
CALSCALE:GREGORIAN
BEGIN:VEVENT
UID:69ea1a9525688
SEQUENCE:0
DESCRIPTION:特定技能 工業製品製造業分野セミナー【ウェビナー・6月19日(金)】
DTSTART:20260619T050000Z
DTEND:20260619T061000Z
SUMMARY:特定技能 工業製品製造業分野セミナー【ウェビナー・6月19日(金)】
LOCATION:JITCO会議室よりオンラインで配信
URL:https://e-ve.event-form.jp/event/131388/KQ63qUaRvC02
DTSTAMP:20260423T221149Z
END:VEVENT
END:VCALENDAR