BEGIN:VCALENDAR
VERSION:2.0
PRODID:-//hacksw/handcal//NONSGML v1.0//EN
CALSCALE:GREGORIAN
BEGIN:VEVENT
UID:69e93516971f3
SEQUENCE:0
DESCRIPTION:【イベント】物江麻衣子_2026.5.30 蘆花恒春園　初夏のパークヨガ×クリスタルボウル
DTSTART:20260530T010000Z
DTEND:20260530T023000Z
SUMMARY:【イベント】物江麻衣子_2026.5.30 蘆花恒春園　初夏のパークヨガ×クリスタルボウル
LOCATION:蘆花恒春園　
URL:https://e-ve.event-form.jp/event/131446/quW3
DTSTAMP:20260423T055238Z
END:VEVENT
END:VCALENDAR