BEGIN:VCALENDAR
VERSION:2.0
PRODID:-//hacksw/handcal//NONSGML v1.0//EN
CALSCALE:GREGORIAN
BEGIN:VEVENT
UID:69eab4cd22f85
SEQUENCE:0
DESCRIPTION:現場ですぐ活かせる！‘‘見せるポーズ力‘‘を高めるしなやかな筋力
DTSTART:20260619T013000Z
DTEND:20260619T043000Z
SUMMARY:【イベント】須賀優香_2026/6/19 インストラクター向けWS「柔軟性編」
LOCATION:飯田橋TS
URL:https://e-ve.event-form.jp/event/131457/quW3
DTSTAMP:20260424T090949Z
END:VEVENT
END:VCALENDAR