BEGIN:VCALENDAR
VERSION:2.0
PRODID:-//hacksw/handcal//NONSGML v1.0//EN
CALSCALE:GREGORIAN
BEGIN:VEVENT
UID:69e8831408bda
SEQUENCE:0
DESCRIPTION:【イベント】須賀優香_2026/6/28 寺ヨガ～心身を調律する倍音ヒーリング～
DTSTART:20260628T063000Z
DTEND:20260628T083000Z
SUMMARY:【イベント】須賀優香_2026/6/28 寺ヨガ～心身を調律する倍音ヒーリング～
LOCATION:天台宗別格本山　中院
URL:https://e-ve.event-form.jp/event/131470/quW3
DTSTAMP:20260422T171308Z
END:VEVENT
END:VCALENDAR