BEGIN:VCALENDAR
VERSION:2.0
PRODID:-//hacksw/handcal//NONSGML v1.0//EN
CALSCALE:GREGORIAN
BEGIN:VEVENT
UID:69e882abe98e7
SEQUENCE:0
DESCRIPTION:【パーソナル】豊永麻子_パーソナルヨガ（60分）
DTSTART:20260430T150000Z
DTEND:20270430T150000Z
SUMMARY:【パーソナル】豊永麻子_パーソナルヨガ（60分）
LOCATION:
URL:https://e-ve.event-form.jp/event/131477/glno6a
DTSTAMP:20260422T171123Z
END:VEVENT
END:VCALENDAR