BEGIN:VCALENDAR
VERSION:2.0
PRODID:-//hacksw/handcal//NONSGML v1.0//EN
CALSCALE:GREGORIAN
BEGIN:VEVENT
UID:69e87e56eaea2
SEQUENCE:0
DESCRIPTION:【イベント】松本祐司_2026/6/27  ヨガの基本から学ぶ 柔軟性と動きやすさを引き出す体の整え方 3回集中講座 〈8名限定・少人数制〉 体が硬い、ポーズがつらい、どう動けばよいかわからない方へ。 股関節・腰・姿勢を見直しながら、自分に合う整え方とポーズへの取り組み方をやさしく学びます。
DTSTART:20260627T010000Z
DTEND:20260711T073000Z
SUMMARY:【イベント】松本祐司_2026/6/27  ヨガの基本から学ぶ 柔軟性と動きやすさを引き出す体の整え方 3回集中講座 〈8名限定・少人数制〉 体が硬い、ポーズがつらい、どう動けばよいかわからない方へ。 股関節・腰・姿勢を見直しながら、自分に合う整え方とポーズへの取り組み方をやさしく学びます。
LOCATION:6/27：LIFORK MINAMI AOYAMA N105　7/4・7/11：水道橋トレーニングスタジオ
URL:https://e-ve.event-form.jp/event/131483/quW3
DTSTAMP:20260422T165254Z
END:VEVENT
END:VCALENDAR