BEGIN:VCALENDAR
VERSION:2.0
PRODID:-//hacksw/handcal//NONSGML v1.0//EN
CALSCALE:GREGORIAN
BEGIN:VEVENT
UID:69ea2d6318b44
SEQUENCE:0
DESCRIPTION:小さなサロンの教科書 集客×契約×物販  売上倍増シークレットセミナー
DTSTART:20260521T010000Z
DTEND:20260521T130000Z
SUMMARY:小さなサロンの教科書 集客×契約×物販  売上倍増シークレットセミナー
LOCATION:オンライン開催
URL:https://e-ve.event-form.jp/event/131504/71Mn
DTSTAMP:20260423T233203Z
END:VEVENT
END:VCALENDAR