BEGIN:VCALENDAR
VERSION:2.0
PRODID:-//hacksw/handcal//NONSGML v1.0//EN
CALSCALE:GREGORIAN
BEGIN:VEVENT
UID:69ebf0891fcf9
SEQUENCE:0
DESCRIPTION:講師：本田佳彰先生
DTSTART:20260517T013000Z
DTEND:20260517T070000Z
SUMMARY:【連続講座】デジタルさんのゲームプログラミングワークショップ
LOCATION:3階　体験ひろば
URL:https://e-ve.event-form.jp/event/131678/20260517
DTSTAMP:20260425T073657Z
END:VEVENT
END:VCALENDAR