BEGIN:VCALENDAR
VERSION:2.0
PRODID:-//hacksw/handcal//NONSGML v1.0//EN
CALSCALE:GREGORIAN
BEGIN:VEVENT
UID:69ebf34d62393
SEQUENCE:0
DESCRIPTION:講師：にこぽじキッズ
DTSTART:20260522T011500Z
DTEND:20260522T021500Z
SUMMARY:運動あそび＆感触あそび　5月22日(金)　第1部（事前予約要）
LOCATION:３階体験ひろば
URL:https://e-ve.event-form.jp/event/131759/20260522
DTSTAMP:20260425T074845Z
END:VEVENT
END:VCALENDAR