BEGIN:VCALENDAR
VERSION:2.0
PRODID:-//hacksw/handcal//NONSGML v1.0//EN
CALSCALE:GREGORIAN
BEGIN:VEVENT
UID:69eca2f32d694
SEQUENCE:0
DESCRIPTION:【イベント】文藏彩香_2026/7/4 夏の寺ヨガ～瞑想×陰陽ヨガ～
DTSTART:20260703T232000Z
DTEND:20260704T030000Z
SUMMARY:【イベント】文藏彩香_2026/7/4 夏の寺ヨガ～瞑想×陰陽ヨガ～
LOCATION:遊行寺
URL:https://e-ve.event-form.jp/event/131809/SGDL
DTSTAMP:20260425T201811Z
END:VEVENT
END:VCALENDAR