BEGIN:VCALENDAR
VERSION:2.0
PRODID:-//hacksw/handcal//NONSGML v1.0//EN
CALSCALE:GREGORIAN
BEGIN:VEVENT
UID:69eca261da91d
SEQUENCE:0
DESCRIPTION:～ショールーム訪問とクリスタルヨガツアー～
DTSTART:20260531T053000Z
DTEND:20260531T100000Z
SUMMARY:【イベント】物江麻衣子_2026/5/31 クリスタルボウル波に出会い、包まれる会
LOCATION:クリスタルボウルテンプル天使の樹（横浜市都筑区中川1－19－27）\,LAVA横浜西口店（横浜市西区北幸1－8－2）
URL:https://e-ve.event-form.jp/event/131812/quW3
DTSTAMP:20260425T201545Z
END:VEVENT
END:VCALENDAR