BEGIN:VCALENDAR
VERSION:2.0
PRODID:-//hacksw/handcal//NONSGML v1.0//EN
CALSCALE:GREGORIAN
BEGIN:VEVENT
UID:69eca209456bb
SEQUENCE:0
DESCRIPTION:【リトリート】矢後恵莉佳 2026年8月8日ー10日  ～健康合宿 矢後恵莉佳編～@千葉 九十九里
DTSTART:20260808T040000Z
DTEND:20260810T030000Z
SUMMARY:【リトリート】矢後恵莉佳 2026年8月8日ー10日  ～健康合宿 矢後恵莉佳編～@千葉 九十九里
LOCATION:サンビレッジ一宮
URL:https://e-ve.event-form.jp/event/131814/SGDL
DTSTAMP:20260425T201417Z
END:VEVENT
END:VCALENDAR