BEGIN:VCALENDAR
VERSION:2.0
PRODID:-//hacksw/handcal//NONSGML v1.0//EN
CALSCALE:GREGORIAN
BEGIN:VEVENT
UID:69eca1b70a626
SEQUENCE:0
DESCRIPTION:３ヶ月であなたも愛され女優顔　〜理想の人にずっと愛される女性に～
DTSTART:20260623T040000Z
DTEND:20260623T080000Z
SUMMARY:【満席が続き、追加決定！】シンデレラメイクレッスン体験会　　６月２３日（池袋）
LOCATION:アットビジネスセンター池袋駅前 別館
URL:https://e-ve.event-form.jp/event/131818/0623rt
DTSTAMP:20260425T201255Z
END:VEVENT
END:VCALENDAR