BEGIN:VCALENDAR
VERSION:2.0
PRODID:-//hacksw/handcal//NONSGML v1.0//EN
CALSCALE:GREGORIAN
BEGIN:VEVENT
UID:69e525226231d
SEQUENCE:0
DESCRIPTION:複数日時選択・人数制限・QRコード受付・申込キャンセル受付
DTSTART:20291201T010000Z
DTEND:20291201T080000Z
SUMMARY:サンプル | 親子参加イベント・ファミリーフェスタ〜入場〜（無料）
LOCATION:イーベ！ホール
URL:https://e-ve.event-form.jp/event/38207/samplekidsEvent
DTSTAMP:20260420T035530Z
END:VEVENT
END:VCALENDAR