BEGIN:VCALENDAR
VERSION:2.0
PRODID:-//hacksw/handcal//NONSGML v1.0//EN
CALSCALE:GREGORIAN
BEGIN:VEVENT
UID:69e5259cf2362
SEQUENCE:0
DESCRIPTION:複数日時選択・人数制限・QRコード受付・申込キャンセル受付
DTSTART:20291201T010000Z
DTEND:20291201T080000Z
SUMMARY:サンプル | 親子参加イベント・ファミリーフェスタ〜キッズレース〜（無料）
LOCATION:イーベ！ホール
URL:https://e-ve.event-form.jp/event/38752/samplekidsrace
DTSTAMP:20260420T035732Z
END:VEVENT
END:VCALENDAR