BEGIN:VCALENDAR
VERSION:2.0
PRODID:-//hacksw/handcal//NONSGML v1.0//EN
CALSCALE:GREGORIAN
BEGIN:VEVENT
UID:69e5853cb01cd
SEQUENCE:0
DESCRIPTION:サンプル | 親子参加ワークショップ
DTSTART:20291216T022300Z
DTEND:20291216T042300Z
SUMMARY:サンプル | 親子参加ワークショップ
LOCATION:大規模コンベンションホール
URL:https://e-ve.event-form.jp/event/42442/familyworkshop
DTSTAMP:20260420T104532Z
END:VEVENT
END:VCALENDAR